BEGIN:VCALENDAR
VERSION:2.0
PRODID:-//103.9 MAX FM - ECPv4.6.26//NONSGML v1.0//EN
CALSCALE:GREGORIAN
METHOD:PUBLISH
X-WR-CALNAME:103.9 MAX FM
X-ORIGINAL-URL:https://1039maxfm.com
X-WR-CALDESC:Events for 103.9 MAX FM
BEGIN:VEVENT
DTSTART;TZID=America/Halifax:20190711T100000
DTEND;TZID=America/Halifax:20190711T113000
DTSTAMP:20260419T152910
CREATED:20190610T155212Z
LAST-MODIFIED:20190610T155212Z
UID:8966-1562839200-1562844600@1039maxfm.com
SUMMARY:Outdoor Story Time
DESCRIPTION:Every Thursday the Dieppe Public Library presents Outdoor Story Time from 10:15-11:15am. Meeting point will be in the library reception area. For more info\, call 877-7945 \n
URL:https://1039maxfm.com/event/outdoor-story-time-2/
END:VEVENT
END:VCALENDAR