BEGIN:VCALENDAR
VERSION:2.0
PRODID:-//103.9 MAX FM - ECPv4.6.26//NONSGML v1.0//EN
CALSCALE:GREGORIAN
METHOD:PUBLISH
X-WR-CALNAME:103.9 MAX FM
X-ORIGINAL-URL:https://1039maxfm.com
X-WR-CALDESC:Events for 103.9 MAX FM
BEGIN:VEVENT
DTSTART;TZID=America/Halifax:20161205T193000
DTEND;TZID=America/Halifax:20161210T190000
DTSTAMP:20260425T115624
CREATED:20161205T134416Z
LAST-MODIFIED:20161205T134416Z
UID:2540-1480966200-1481396400@1039maxfm.com
SUMMARY:Nutcracker
DESCRIPTION:The holiday classic Nutcracker\, based on E.T.A. Hoffman’s cherished holiday story\, is a wonderful dreamscape of childhood reveries\, fantastic creatures and magical events\, brought to life by the Academy dancers in a magical décor and festive ambiance. The show will be at the Capitol Theatre\, 811 Main St. in Moncton. Here are the show times: \nMonday\, December 5th @ 7:30pm \nTuesday\, December 6th @ 7:30pm \nFriday\, December 9th @ 7:00pm \nSaturday\, December 10th @ 2:00pm and 7:00pm \nTickets can be purchased at the Capitol. Hours are Mon- Fri 9:30am-5:30pm and Saturdays 10am-2pm and they are closed on Sundays/holidays. You can call 506-856-4379 or email boxoffice@capitol.nb.ca for more info. \n \n
URL:https://1039maxfm.com/event/nutcracker/
END:VEVENT
END:VCALENDAR