BEGIN:VCALENDAR
VERSION:2.0
PRODID:-//103.9 MAX FM - ECPv4.6.26//NONSGML v1.0//EN
CALSCALE:GREGORIAN
METHOD:PUBLISH
X-WR-CALNAME:103.9 MAX FM
X-ORIGINAL-URL:https://1039maxfm.com
X-WR-CALDESC:Events for 103.9 MAX FM
BEGIN:VEVENT
DTSTART;TZID=America/Halifax:20190615T110000
DTEND;TZID=America/Halifax:20190615T170000
DTSTAMP:20260424T131815
CREATED:20190508T131141Z
LAST-MODIFIED:20190508T131141Z
UID:8590-1560596400-1560618000@1039maxfm.com
SUMMARY:National Ride for Dad
DESCRIPTION:The Dunkirk Unit of Canadian Army Veterans is again hosting a motorcycle ride to support National Ride For Dad collecting funds to support Prostate Cancer Research and Education. This event will be held on Saturday\, June 15th starting at Sobeys Mountain Rd. (11:00am) going to Miramichi and back along the coast finishing at Sobeys on Elmwood Drive. Free registration with $100 or more raised in pledges. \nPre-register online at: http://ridefordad.ca or at Sobeys from 9-10:45 \n
URL:https://1039maxfm.com/event/national-ride-for-dad/
END:VEVENT
END:VCALENDAR