BEGIN:VCALENDAR
VERSION:2.0
PRODID:-//103.9 MAX FM - ECPv4.6.26//NONSGML v1.0//EN
CALSCALE:GREGORIAN
METHOD:PUBLISH
X-WR-CALNAME:103.9 MAX FM
X-ORIGINAL-URL:https://1039maxfm.com
X-WR-CALDESC:Events for 103.9 MAX FM
BEGIN:VEVENT
DTSTART;TZID=America/Halifax:20190922T130000
DTEND;TZID=America/Halifax:20190922T150000
DTSTAMP:20260419T175833
CREATED:20190913T115459Z
LAST-MODIFIED:20190913T120154Z
UID:9605-1569157200-1569164400@1039maxfm.com
SUMMARY:Muddy River Rollers Open House
DESCRIPTION:The Muddy River Rollers will be hosting two Open Houses (free to attend). Visit a practice\, meet league members and ask questions. \nOpen House #1: Sunday\, September 22nd\, 1-3pm \nOpen House #2: Sunday\, October 6th\, 1-3pm \nLearn to skate begins Sunday\, October 27th from 3-5pm. The Open House will take place at the Moncton Lions Club\, 55 Mark Ave. If you have any questions or would like to register for the Learn to Skate\, email: rollerderbymoncton@gmail.com \n
URL:https://1039maxfm.com/event/muddy-river-rollers-open-house/
END:VEVENT
END:VCALENDAR