BEGIN:VCALENDAR
VERSION:2.0
PRODID:-//103.9 MAX FM - ECPv4.6.26//NONSGML v1.0//EN
CALSCALE:GREGORIAN
METHOD:PUBLISH
X-WR-CALNAME:103.9 MAX FM
X-ORIGINAL-URL:https://1039maxfm.com
X-WR-CALDESC:Events for 103.9 MAX FM
BEGIN:VEVENT
DTSTART;TZID=America/Halifax:20161120T100000
DTEND;TZID=America/Halifax:20161120T160000
DTSTAMP:20260424T111634
CREATED:20161109T154810Z
LAST-MODIFIED:20161109T154810Z
UID:2444-1479636000-1479657600@1039maxfm.com
SUMMARY:Muddy River Rollers Holiday Bazaar
DESCRIPTION:The Muddy River Rollers are having their 3rd annual Holiday Bazaar on Sunday\, November 20th from 10am-4pm at the Moncton Lions Club\, 55 Mark Ave. There will be handmade art\, crafts\, hot drinks and a visit from Santa! Donations to the SPCA\, KCAR and Food bank will be accepted as admission. For vendor info\, please email  mrrbazaar@gmail.com \n
URL:https://1039maxfm.com/event/muddy-river-rollers-holiday-bazaar/
END:VEVENT
END:VCALENDAR