BEGIN:VCALENDAR
VERSION:2.0
PRODID:-//103.9 MAX FM - ECPv4.6.26//NONSGML v1.0//EN
CALSCALE:GREGORIAN
METHOD:PUBLISH
X-WR-CALNAME:103.9 MAX FM
X-ORIGINAL-URL:https://1039maxfm.com
X-WR-CALDESC:Events for 103.9 MAX FM
BEGIN:VEVENT
DTSTART;TZID=America/Halifax:20181018T190000
DTEND;TZID=America/Halifax:20181018T210000
DTSTAMP:20260424T111937
CREATED:20181009T181345Z
LAST-MODIFIED:20181009T181345Z
UID:7154-1539889200-1539896400@1039maxfm.com
SUMMARY:Movie Night at Central
DESCRIPTION:The Affirming Committee of Central United Church will be having a movie night on Thursday\, October 18th @ 7pm. Hidden Figures will be showing in the Community Peace Centre Forum\, 22 Church St. Movie and snacks are FREE. Come out and bring a friend! \n
URL:https://1039maxfm.com/event/movie-night-at-central/
END:VEVENT
END:VCALENDAR