BEGIN:VCALENDAR
VERSION:2.0
PRODID:-//103.9 MAX FM - ECPv4.6.26//NONSGML v1.0//EN
CALSCALE:GREGORIAN
METHOD:PUBLISH
X-WR-CALNAME:103.9 MAX FM
X-ORIGINAL-URL:https://1039maxfm.com
X-WR-CALDESC:Events for 103.9 MAX FM
BEGIN:VEVENT
DTSTART;TZID=America/Halifax:20181103T193000
DTEND;TZID=America/Halifax:20181103T193000
DTSTAMP:20260423T034954
CREATED:20181030T153336Z
LAST-MODIFIED:20181030T153336Z
UID:7294-1541273400-1541273400@1039maxfm.com
SUMMARY:Motown Soul
DESCRIPTION:Max 103.9 welcomes Motown Soul to Casino New Brunswick\, Saturday\, November 3rd. Defined as soul music\, Classic Motown was a driving force behind some of the biggest names in music. Individual artists and groups like Smokey Robinson\, Diana Ross\, and The Supremes\, Stevie Wonder\, Marvin Gaye\, The Temptations\, and The Jackson 5\, among many others\, would come to be known as the Motown Sound in the sixties and seventies. Performed by the Tonettes (Cathy\, Marlene\, and Amoy)\, with a live band and guest performer Grady Harrell from Las Vegas.  \n
URL:https://1039maxfm.com/event/motown-soul/
LOCATION:Casino New Brunswick\, New Brunswick\, Canada
ATTACH;FMTTYPE=image/jpeg:https://1039maxfm.com/wp-content/uploads/sites/8/2018/10/motown-soul.jpg
END:VEVENT
END:VCALENDAR