BEGIN:VCALENDAR
VERSION:2.0
PRODID:-//103.9 MAX FM - ECPv4.6.26//NONSGML v1.0//EN
CALSCALE:GREGORIAN
METHOD:PUBLISH
X-WR-CALNAME:103.9 MAX FM
X-ORIGINAL-URL:https://1039maxfm.com
X-WR-CALDESC:Events for 103.9 MAX FM
BEGIN:VEVENT
DTSTART;TZID=America/Halifax:20251213T123000
DTEND;TZID=America/Halifax:20251213T210000
DTSTAMP:20260423T120952
CREATED:20251117T115053Z
LAST-MODIFIED:20251117T115053Z
UID:20004-1765629000-1765659600@1039maxfm.com
SUMMARY:MOSAIQ International Crafts Market
DESCRIPTION: Step Into the Magic of the Holidays at MOSAÏQ! Join us for a heartwarming celebration of global creativity and festive cheer at the MOSAÏQ International Crafts Market – Christmas Edition! Discover handcrafted treasures from around the world\, perfect for gifting or treating yourself. From unique ornaments to artisanal goods\, every item tells a story. Enjoy the festive atmosphere\, seasonal music\, and the joyful spirit of community as we come together to celebrate the season. Date: Saturday\, December 13\, 2025 Time: 12:30PM – 6:30 PM Location: MAGMA Atrium\, 22 Church Street\, Moncton Admission is free – bring your friends\, family\, and holiday spirit!\n Bonus Holiday Magic!This festive market is held in conjunction with the Greater Moncton Chorale’s Christmas Concert\, happening right after the market from 7:00 PM to 9:00 PM at Central United Church Moncton.\n Make it a full day of culture\, crafts\, and Music!\nLet’s make this season sparkle with culture\, craft\, and connection. \n
URL:https://1039maxfm.com/event/mosaiq-international-crafts-market/
ATTACH;FMTTYPE=image/jpeg:https://1039maxfm.com/wp-content/uploads/sites/8/2025/11/Mosaiq.jpg
END:VEVENT
END:VCALENDAR