BEGIN:VCALENDAR
VERSION:2.0
PRODID:-//103.9 MAX FM - ECPv4.6.26//NONSGML v1.0//EN
CALSCALE:GREGORIAN
METHOD:PUBLISH
X-WR-CALNAME:103.9 MAX FM
X-ORIGINAL-URL:https://1039maxfm.com
X-WR-CALDESC:Events for 103.9 MAX FM
BEGIN:VEVENT
DTSTART;TZID=America/Halifax:20170304T120000
DTEND;TZID=America/Halifax:20170304T180000
DTSTAMP:20260425T103334
CREATED:20170221T152927Z
LAST-MODIFIED:20170221T152927Z
UID:2966-1488628800-1488650400@1039maxfm.com
SUMMARY:Moncton- St. Antoine Snowmobile Club Fundraiser
DESCRIPTION:The Moncton- St. Antoine Snowmobile Club will be holding their 15th annual steak dinner/ fundraiser on Saturday\, March 4th from noon-6pm. It will take place at the Irishtown Community Center located at 2603 Rte. 115 and on trail #648. Everyone is welcome! \n
URL:https://1039maxfm.com/event/moncton-st-antoine-snowmobile-club-fundraiser/
END:VEVENT
END:VCALENDAR