BEGIN:VCALENDAR
VERSION:2.0
PRODID:-//103.9 MAX FM - ECPv4.6.26//NONSGML v1.0//EN
CALSCALE:GREGORIAN
METHOD:PUBLISH
X-WR-CALNAME:103.9 MAX FM
X-ORIGINAL-URL:https://1039maxfm.com
X-WR-CALDESC:Events for 103.9 MAX FM
BEGIN:VEVENT
DTSTART;TZID=America/Halifax:20180815T080000
DTEND;TZID=America/Halifax:20180830T170000
DTSTAMP:20260419T132144
CREATED:20180815T142408Z
LAST-MODIFIED:20180815T142408Z
UID:6593-1534320000-1535648400@1039maxfm.com
SUMMARY:Moncton Headstart School Supply Drive
DESCRIPTION:The Moncton Headstart School Supply Drive will be happening from now until August 30th. They are in need of black dry erase markers\, USB sticks and binders. To register\, call 858-8252. You can drop off items at all Jean Coutu locations or at Headstart\, 1111 Mountain Rd. School supplies or cash donations are accepted. \n
URL:https://1039maxfm.com/event/moncton-headstart-school-supply-drive/
END:VEVENT
END:VCALENDAR