BEGIN:VCALENDAR
VERSION:2.0
PRODID:-//103.9 MAX FM - ECPv4.6.26//NONSGML v1.0//EN
CALSCALE:GREGORIAN
METHOD:PUBLISH
X-WR-CALNAME:103.9 MAX FM
X-ORIGINAL-URL:https://1039maxfm.com
X-WR-CALDESC:Events for 103.9 MAX FM
BEGIN:VEVENT
DTSTART;TZID=UTC+0:20160816T193000
DTEND;TZID=UTC+0:20160816T213000
DTSTAMP:20260424T114335
CREATED:20160816T171526Z
LAST-MODIFIED:20160816T171526Z
UID:251-1471375800-1471383000@1039maxfm.com
SUMMARY:Moncton Fisher Cats Vs. Saint John
DESCRIPTION:Where: Kiwanis Park \nWhen: 7:30PM\, 2016-08-17 \nCome out to Kiwanis Park and cheer on the Moncton Fisher Cats as they take on Saint John on August 17th at 7:30PM! GO FISHER CATS GO!! \n
URL:https://1039maxfm.com/event/moncton-fisher-cats-vs-saint-john/
CATEGORIES:Sporting Events
ATTACH;FMTTYPE=image/png:https://1039maxfm.com/wp-content/uploads/sites/8/2016/08/igqpvlad_FISHERCATS.png
END:VEVENT
END:VCALENDAR