BEGIN:VCALENDAR
VERSION:2.0
PRODID:-//103.9 MAX FM - ECPv4.6.26//NONSGML v1.0//EN
CALSCALE:GREGORIAN
METHOD:PUBLISH
X-WR-CALNAME:103.9 MAX FM
X-ORIGINAL-URL:https://1039maxfm.com
X-WR-CALDESC:Events for 103.9 MAX FM
BEGIN:VEVENT
DTSTART;TZID=America/Halifax:20190630T190000
DTEND;TZID=America/Halifax:20190630T210000
DTSTAMP:20260424T131831
CREATED:20190510T141344Z
LAST-MODIFIED:20190510T141344Z
UID:8672-1561921200-1561928400@1039maxfm.com
SUMMARY:Moncton Fisher Cats
DESCRIPTION:Fisher Cats Vs. Fredericton tonight @ 7:00pm at Kiwanis Park \nSee their Facebook page and Twitter for more info! \n \n
URL:https://1039maxfm.com/event/moncton-fisher-cats-24/
END:VEVENT
END:VCALENDAR