BEGIN:VCALENDAR
VERSION:2.0
PRODID:-//103.9 MAX FM - ECPv4.6.26//NONSGML v1.0//EN
CALSCALE:GREGORIAN
METHOD:PUBLISH
X-WR-CALNAME:103.9 MAX FM
X-ORIGINAL-URL:https://1039maxfm.com
X-WR-CALDESC:Events for 103.9 MAX FM
BEGIN:VEVENT
DTSTART;VALUE=DATE:20220408
DTEND;VALUE=DATE:20220411
DTSTAMP:20260424T114112
CREATED:20220325T160826Z
LAST-MODIFIED:20220325T160826Z
UID:13671-1649376000-1649635199@1039maxfm.com
SUMMARY:Moncton Boat Show
DESCRIPTION:The Moncton Boat Show / New Brunswick Sportsmen & Fly Fishing Show RETURNS April 8-10\, 2022! Skip the lines by getting your tickets online! \nTickets will grant you access to BOTH shows happening at The Moncton Coliseum! Use the link below to pre-purchase your tickets! \nCLICK HERE FOR TICKETS! \n
URL:https://1039maxfm.com/event/moncton-boat-show/
ATTACH;FMTTYPE=image/jpeg:https://1039maxfm.com/wp-content/uploads/sites/8/2022/03/moncton-boat-show.jpg
END:VEVENT
END:VCALENDAR