BEGIN:VCALENDAR
VERSION:2.0
PRODID:-//103.9 MAX FM - ECPv4.6.26//NONSGML v1.0//EN
CALSCALE:GREGORIAN
METHOD:PUBLISH
X-WR-CALNAME:103.9 MAX FM
X-ORIGINAL-URL:https://1039maxfm.com
X-WR-CALDESC:Events for 103.9 MAX FM
BEGIN:VEVENT
DTSTART;TZID=America/Halifax:20161119T100000
DTEND;TZID=America/Halifax:20161119T150000
DTSTAMP:20260424T090210
CREATED:20161114T141905Z
LAST-MODIFIED:20161114T180045Z
UID:2468-1479549600-1479567600@1039maxfm.com
SUMMARY:Mistletoe Market
DESCRIPTION:The 3rd annual Mistletoe Market at Northrup Frye School on Ryan Rd. will be on Saturday\, November 19th from 10am-3pm. Admission is $2 and free for children under 12. There will be over 40 vendors\, school choir singing\, canteen and lots of door prizes. All admission and canteen proceeds raised will go back into the school towards classroom needs. \n
URL:https://1039maxfm.com/event/mistletoe-market/
END:VEVENT
END:VCALENDAR