BEGIN:VCALENDAR
VERSION:2.0
PRODID:-//103.9 MAX FM - ECPv4.6.26//NONSGML v1.0//EN
CALSCALE:GREGORIAN
METHOD:PUBLISH
X-WR-CALNAME:103.9 MAX FM
X-ORIGINAL-URL:https://1039maxfm.com
X-WR-CALDESC:Events for 103.9 MAX FM
BEGIN:VEVENT
DTSTART;TZID=America/Halifax:20180628T140000
DTEND;TZID=America/Halifax:20180628T180000
DTSTAMP:20260423T174030
CREATED:20180607T145900Z
LAST-MODIFIED:20180607T145900Z
UID:6099-1530194400-1530208800@1039maxfm.com
SUMMARY:Mighty Machines
DESCRIPTION:Come on down to the Riverview Operations Centre (300 Robertson St) on Thursday\, June 28th to see the Mighty Machines from 2-6pm. \n \n
URL:https://1039maxfm.com/event/mighty-machines/
END:VEVENT
END:VCALENDAR