BEGIN:VCALENDAR
VERSION:2.0
PRODID:-//103.9 MAX FM - ECPv4.6.26//NONSGML v1.0//EN
CALSCALE:GREGORIAN
METHOD:PUBLISH
X-WR-CALNAME:103.9 MAX FM
X-ORIGINAL-URL:https://1039maxfm.com
X-WR-CALDESC:Events for 103.9 MAX FM
BEGIN:VEVENT
DTSTART;TZID=America/Halifax:20190713T120000
DTEND;TZID=America/Halifax:20190713T200000
DTSTAMP:20260424T112148
CREATED:20190709T124111Z
LAST-MODIFIED:20190709T124111Z
UID:9137-1563019200-1563048000@1039maxfm.com
SUMMARY:Lobster Festival Cup
DESCRIPTION:SBYRA and Able Sail invite you to the annual Lobster Festival Cup.\nParticipant information\nClass A\,B\,C Yachts \nCost is $10 per boat\, with proceeds to Able Sail. \nRegistration is from 12pm – 1pm at the PCYC \nSkippers Meeting at 1pm at PCYC with the race starting at 2:15pm \nLobster Supper\nFollowing the race will be a lobster supper. Cost is $20 per ticket and tickets can be purchased from the Able Sail building at PCYC (Monday-Friday; 9am-5pm) or by calling Mark Bridges at 531-7732 to reserve tickets. \n
URL:https://1039maxfm.com/event/lobster-festival-cup/
LOCATION:Pointe-du-Chêne Yacht Club
CATEGORIES:Charity Events,Community,Entertainment
ATTACH;FMTTYPE=image/jpeg:https://1039maxfm.com/wp-content/uploads/sites/8/2019/07/yysw236637.jpg
END:VEVENT
END:VCALENDAR