BEGIN:VCALENDAR
VERSION:2.0
PRODID:-//103.9 MAX FM - ECPv4.6.26//NONSGML v1.0//EN
CALSCALE:GREGORIAN
METHOD:PUBLISH
X-WR-CALNAME:103.9 MAX FM
X-ORIGINAL-URL:https://1039maxfm.com
X-WR-CALDESC:Events for 103.9 MAX FM
BEGIN:VEVENT
DTSTART;TZID=America/Halifax:20250825T090000
DTEND;TZID=America/Halifax:20250825T150000
DTSTAMP:20260425T103514
CREATED:20250718T103121Z
LAST-MODIFIED:20250718T103121Z
UID:19508-1756112400-1756134000@1039maxfm.com
SUMMARY:Life Start Training First Aid & Safety Presents: Babysitting & Life Skills for Tweens
DESCRIPTION:\n\n\n\n\nEvent by Life Start Training First Aid & Safety\n\n\n\n\n\n\n\n\n\n\n\n\n95 Millennium Blvd – Suite 303\, Moncton\, NB\, Canada E1E2G7\n\n\n\n\n\n\n\n\n\nYour tween can handle more than you think—with the right training! This one-day class gives kids ages 10–13 the tools to babysit with confidence\, respond to emergencies\, and take on more independence at home.\nWhat they’ll learn: How to care for kids of different ages Safety\, basic first aid & emergency response Professional tips to impress any parent What to do when things don’t go as planned\n Moncton – 95 Millennium Blvd\, Suite 303 August 25 9 AM – 3 PM $45 + tax\n Perfect for tweens new to babysitting or home-alone time Book now: https://bit.ly/4mHyhmn\n\n\n
URL:https://1039maxfm.com/event/life-start-training-first-aid-safety-presents-babysitting-life-skills-for-tweens/
ATTACH;FMTTYPE=image/jpeg:https://1039maxfm.com/wp-content/uploads/sites/8/2025/07/500766070_691749336936472_8261209432090520922_n.jpg
END:VEVENT
END:VCALENDAR