BEGIN:VCALENDAR
VERSION:2.0
PRODID:-//103.9 MAX FM - ECPv4.6.26//NONSGML v1.0//EN
CALSCALE:GREGORIAN
METHOD:PUBLISH
X-WR-CALNAME:103.9 MAX FM
X-ORIGINAL-URL:https://1039maxfm.com
X-WR-CALDESC:Events for 103.9 MAX FM
BEGIN:VEVENT
DTSTART;TZID=America/Halifax:20191208T113000
DTEND;TZID=America/Halifax:20191208T130000
DTSTAMP:20260422T173948
CREATED:20191118T132601Z
LAST-MODIFIED:20191118T132601Z
UID:10274-1575804600-1575810000@1039maxfm.com
SUMMARY:Knights of Columbus Comfort Food Sale
DESCRIPTION:The Knights of Columbus Council 9270 of Riverview will be holding a “Comfort Food” Sale on Sunday\, December 8th at the Dan Boham Centre\, 5 Fatima Drive in Riverview from 11:30am- 1pm. There will be various soups\, baked beans\, chili and spaghetti sauce. All proceeds will be donated to the Albert County Christmas Aid Society to purchase food for the Christmas boxes. \n
URL:https://1039maxfm.com/event/knights-of-columbus-comfort-food-sale/
END:VEVENT
END:VCALENDAR