BEGIN:VCALENDAR
VERSION:2.0
PRODID:-//103.9 MAX FM - ECPv4.6.26//NONSGML v1.0//EN
CALSCALE:GREGORIAN
METHOD:PUBLISH
X-WR-CALNAME:103.9 MAX FM
X-ORIGINAL-URL:https://1039maxfm.com
X-WR-CALDESC:Events for 103.9 MAX FM
BEGIN:VEVENT
DTSTART;VALUE=DATE:20231014
DTEND;VALUE=DATE:20231015
DTSTAMP:20260422T173622
CREATED:20231003T113917Z
LAST-MODIFIED:20231010T134623Z
UID:16411-1697241600-1697327999@1039maxfm.com
SUMMARY:Jason Cyrus LIVE! A Mystical and Magical Journey into the Unconscious Mind
DESCRIPTION:The incredible showman extraordinaire—Jason Cyrus returns with TWO performances of the hottest stage hypnosis show in Canada! \nHypnotizing thousands throughout his dynamic career\, Jason delivers a distinct one-of-a-kind energizing experience of hypnosis. Audiences everywhere are mesmerized saying\, “That was the greatest\, funniest show I ever saw!” his wildly popular show will leave you captivated\, and in stitches with laughter\, as participants experience a night of fun leaving their troubles at the door! \nNot only are Jason’s shows filled with fun\, high energy and non-stop entertainment but Jason demonstrates his unique ability to inspire and educate his volunteers and audiences\, leaving them captivated\, charged up and wanting more. Expect nothing less than sensational when you watch Jason in action! \nThe fun\, the thrills\, and the uncontrollable laughter … it’s the most hilarious and fascinating journey into the mind that you will ever take! \nShowtimes are 3pm & 7:30pm. \nMore Info: Capitol Theatre \n
URL:https://1039maxfm.com/event/jason-cyrus-live-2023/
ATTACH;FMTTYPE=image/jpeg:https://1039maxfm.com/wp-content/uploads/sites/8/2023/10/cyruslive.jpg
END:VEVENT
END:VCALENDAR