BEGIN:VCALENDAR
VERSION:2.0
PRODID:-//103.9 MAX FM - ECPv4.6.26//NONSGML v1.0//EN
CALSCALE:GREGORIAN
METHOD:PUBLISH
X-WR-CALNAME:103.9 MAX FM
X-ORIGINAL-URL:https://1039maxfm.com
X-WR-CALDESC:Events for 103.9 MAX FM
BEGIN:VEVENT
DTSTART;TZID=America/Halifax:20190928T080000
DTEND;TZID=America/Halifax:20190928T170000
DTSTAMP:20260424T114305
CREATED:20190903T123104Z
LAST-MODIFIED:20190903T123104Z
UID:9506-1569657600-1569690000@1039maxfm.com
SUMMARY:Hockey N.B. Developmental 1 Clinic
DESCRIPTION:Hockey New Brunswick will be hosting a Developmental 1 Clinic for coaches at the Moncton Operations Centre at the Moncton Superior Propane Centre on Saturday\, September 28th and 29th. To register\, please contact Dave Wheaton at 384-1867 or register online at http://www.hnb.ca under the clinic tab. \n
URL:https://1039maxfm.com/event/hockey-n-b-developmental-1-clinic/
END:VEVENT
END:VCALENDAR