BEGIN:VCALENDAR
VERSION:2.0
PRODID:-//103.9 MAX FM - ECPv4.6.26//NONSGML v1.0//EN
CALSCALE:GREGORIAN
METHOD:PUBLISH
X-WR-CALNAME:103.9 MAX FM
X-ORIGINAL-URL:https://1039maxfm.com
X-WR-CALDESC:Events for 103.9 MAX FM
BEGIN:VEVENT
DTSTART;TZID=America/Halifax:20161203T183000
DTEND;TZID=America/Halifax:20161203T200000
DTSTAMP:20260423T152451
CREATED:20161117T204917Z
LAST-MODIFIED:20161117T204917Z
UID:2485-1480789800-1480795200@1039maxfm.com
SUMMARY:Hillsborough Christmas Parade
DESCRIPTION:The Hillsborough Christmas Parade will be on Saturday\, December 3rd at 6:30pm. It will be on Main St. and end on Steeves St. There will be candy for the children who visit Santa at the Hillsborough Kiwanis Community Center. \n
URL:https://1039maxfm.com/event/hillsborough-christmas-parade/
END:VEVENT
END:VCALENDAR