BEGIN:VCALENDAR
VERSION:2.0
PRODID:-//103.9 MAX FM - ECPv4.6.26//NONSGML v1.0//EN
CALSCALE:GREGORIAN
METHOD:PUBLISH
X-WR-CALNAME:103.9 MAX FM
X-ORIGINAL-URL:https://1039maxfm.com
X-WR-CALDESC:Events for 103.9 MAX FM
BEGIN:VEVENT
DTSTART;TZID=America/Halifax:20170506T200000
DTEND;TZID=America/Halifax:20170506T200000
DTSTAMP:20260420T035616
CREATED:20170315T151415Z
LAST-MODIFIED:20170315T151415Z
UID:3281-1494100800-1494100800@1039maxfm.com
SUMMARY:Girls Night Out in Support of Crossroads for Women Inc.
DESCRIPTION:The Canadian Progress Club of Greater Moncton will be having their 9th annual “Girls night out for Crossroads for Women Inc.” on Saturday\, May 6th at 8pm. It takes place at the Cocoa Room in Riverview and will feature the band Nine Mile River\, shopping\, dancing\, pampering\, cocktails and much more! Tickets will be available starting Friday\, March 17th with general admission price of $35 per ticket and reserved seating price of $45. You can purchase tickets online through Eventbrite.ca or at Second Edition on 460 Mountain Rd. \nFor more info\, see the Girls night Out 2017 event page\, found within the Greater Moncton Women’s Progress Club Facebook. \n
URL:https://1039maxfm.com/event/girls-night-out-in-support-of-crossroads-for-women-inc/
END:VEVENT
END:VCALENDAR