BEGIN:VCALENDAR
VERSION:2.0
PRODID:-//103.9 MAX FM - ECPv4.6.26//NONSGML v1.0//EN
CALSCALE:GREGORIAN
METHOD:PUBLISH
X-WR-CALNAME:103.9 MAX FM
X-ORIGINAL-URL:https://1039maxfm.com
X-WR-CALDESC:Events for 103.9 MAX FM
BEGIN:VEVENT
DTSTART;TZID=America/Halifax:20191012T080000
DTEND;TZID=America/Halifax:20191012T150000
DTSTAMP:20260424T114306
CREATED:20191007T151352Z
LAST-MODIFIED:20191007T151352Z
UID:9888-1570867200-1570892400@1039maxfm.com
SUMMARY:Fundraiser Yard Sale
DESCRIPTION:There will be a fund raiser yard sale on Saturday\, October 12th and Sunday\, October 13th from 8am-3pm at 22 Toth St. in Point Park Riverview. All funds gathered are to help a family member who will be travelling to undergo cancer treatments. \n
URL:https://1039maxfm.com/event/fundraiser-yard-sale-2/
END:VEVENT
END:VCALENDAR