BEGIN:VCALENDAR
VERSION:2.0
PRODID:-//103.9 MAX FM - ECPv4.6.26//NONSGML v1.0//EN
CALSCALE:GREGORIAN
METHOD:PUBLISH
X-WR-CALNAME:103.9 MAX FM
X-ORIGINAL-URL:https://1039maxfm.com
X-WR-CALDESC:Events for 103.9 MAX FM
BEGIN:VEVENT
DTSTART;TZID=America/Halifax:20190627T210000
DTEND;TZID=America/Halifax:20190627T210000
DTSTAMP:20260423T130856
CREATED:20190508T151841Z
LAST-MODIFIED:20190513T145258Z
UID:8605-1561669200-1561669200@1039maxfm.com
SUMMARY:Fundraiser for Summer Camp
DESCRIPTION:Nicholas’ Hope Family Services are having a fundraiser for free summer camp for children within the community- The Big Bad Party Band will be putting on a concert on Thursday\, June 27th at the Moncton Lions Club\, 55 Mark Ave. from 9pm-1am. Tickets are $20 with all proceeds going to the summer camps. \n
URL:https://1039maxfm.com/event/fundraiser-for-summer-camp/
END:VEVENT
END:VCALENDAR