BEGIN:VCALENDAR
VERSION:2.0
PRODID:-//103.9 MAX FM - ECPv4.6.26//NONSGML v1.0//EN
CALSCALE:GREGORIAN
METHOD:PUBLISH
X-WR-CALNAME:103.9 MAX FM
X-ORIGINAL-URL:https://1039maxfm.com
X-WR-CALDESC:Events for 103.9 MAX FM
BEGIN:VEVENT
DTSTART;TZID=America/Halifax:20190922T130000
DTEND;TZID=America/Halifax:20190922T160000
DTSTAMP:20260419T155843
CREATED:20190917T184621Z
LAST-MODIFIED:20190917T192039Z
UID:9660-1569157200-1569168000@1039maxfm.com
SUMMARY:Fundraiser Bingo for Brittany
DESCRIPTION:There will be a Fundraiser Bingo for Brittany on Sunday\, September 22nd from 1-4pm at the Club D’age D’or\, 27 rue Sackville in Shediac. Doors open at 12:30. There is a $10 entry fee at the door and $5 for extra books. You will be playing for prizes and the jackpot will be lobster. There will also be door prizes\, 50/50 draw and the canteen will be open. \n
URL:https://1039maxfm.com/event/fundraiser-bingo-for-brittany/
END:VEVENT
END:VCALENDAR