BEGIN:VCALENDAR
VERSION:2.0
PRODID:-//103.9 MAX FM - ECPv4.6.26//NONSGML v1.0//EN
CALSCALE:GREGORIAN
METHOD:PUBLISH
X-WR-CALNAME:103.9 MAX FM
X-ORIGINAL-URL:https://1039maxfm.com
X-WR-CALDESC:Events for 103.9 MAX FM
BEGIN:VEVENT
DTSTART;TZID=America/Halifax:20251025T180000
DTEND;TZID=America/Halifax:20251025T180000
DTSTAMP:20260423T120809
CREATED:20250730T105410Z
LAST-MODIFIED:20250730T105410Z
UID:19584-1761415200-1761415200@1039maxfm.com
SUMMARY:Foreigner ft. 54-40 Live at Avenir!
DESCRIPTION:\nCan you say #datenight ??\n\n\n\nForeigner with special guests: 54-40 are taking over Downtown Moncton Centre-ville on Saturday\, October 25th.\n\n\n\nDon’t miss out – catch the Juke Box Heroes with the following link:\navenircentre.com\n\n
URL:https://1039maxfm.com/event/foreigner-ft-54-40-live-at-avenir/
LOCATION:Avenir Centre
ATTACH;FMTTYPE=image/jpeg:https://1039maxfm.com/wp-content/uploads/sites/8/2025/07/524904918_782580280790821_1951501341541226796_n.jpg
END:VEVENT
END:VCALENDAR