BEGIN:VCALENDAR
VERSION:2.0
PRODID:-//103.9 MAX FM - ECPv4.6.26//NONSGML v1.0//EN
CALSCALE:GREGORIAN
METHOD:PUBLISH
X-WR-CALNAME:103.9 MAX FM
X-ORIGINAL-URL:https://1039maxfm.com
X-WR-CALDESC:Events for 103.9 MAX FM
BEGIN:VEVENT
DTSTART;TZID=America/Halifax:20180901T190000
DTEND;TZID=America/Halifax:20180901T210000
DTSTAMP:20260424T114152
CREATED:20180828T135452Z
LAST-MODIFIED:20180828T135452Z
UID:6697-1535828400-1535835600@1039maxfm.com
SUMMARY:Fisher Cats Playoff Schedule
DESCRIPTION:Fisher Cats vs. Fredericton tonight @ 7pm at Kiwanis Park (Playoffs) \nSee their Facebook page and Twitter for more info! \n \n
URL:https://1039maxfm.com/event/fisher-cats-playoff-schedule/
END:VEVENT
END:VCALENDAR