BEGIN:VCALENDAR
VERSION:2.0
PRODID:-//103.9 MAX FM - ECPv4.6.26//NONSGML v1.0//EN
CALSCALE:GREGORIAN
METHOD:PUBLISH
X-WR-CALNAME:103.9 MAX FM
X-ORIGINAL-URL:https://1039maxfm.com
X-WR-CALDESC:Events for 103.9 MAX FM
BEGIN:VEVENT
DTSTART;TZID=America/Halifax:20180628T130000
DTEND;TZID=America/Halifax:20180628T170000
DTSTAMP:20260423T172749
CREATED:20180529T170319Z
LAST-MODIFIED:20180529T170319Z
UID:5934-1530190800-1530205200@1039maxfm.com
SUMMARY:Fisher Cats Golf Tournament
DESCRIPTION:The 1st annual Fisher Cats Golf Tournament will be taking place on Thursday\, June 28th @ 1pm at Country Meadows Golf Club\, 149 Catamount Road\, Indian Mountain. Cost is $500 per 4 person team which includes green fees\, carts\, steak dinner & prizes. Prizes will go to the top 3 teams. \n \n
URL:https://1039maxfm.com/event/fisher-cats-golf-tournament/
END:VEVENT
END:VCALENDAR