BEGIN:VCALENDAR
VERSION:2.0
PRODID:-//103.9 MAX FM - ECPv4.6.26//NONSGML v1.0//EN
CALSCALE:GREGORIAN
METHOD:PUBLISH
X-WR-CALNAME:103.9 MAX FM
X-ORIGINAL-URL:https://1039maxfm.com
X-WR-CALDESC:Events for 103.9 MAX FM
BEGIN:VEVENT
DTSTART;TZID=America/Halifax:20160916T193000
DTEND;TZID=America/Halifax:20160916T223000
DTSTAMP:20260422T182743
CREATED:20160907T142641Z
LAST-MODIFIED:20160907T142641Z
UID:917-1474054200-1474065000@1039maxfm.com
SUMMARY:Dieppe Commandos Home Game
DESCRIPTION:Miramichi Timberwolves  @ Dieppe Commandos Hockey Club\nDate: Fri Sep 16\, 2016 @ 7:30 pm – 10:30 pm\nLocation: Arthur-J.-LeBlanc Arena \n
URL:https://1039maxfm.com/event/dieppe-commandos-home-game/
ATTACH;FMTTYPE=image/jpeg:https://1039maxfm.com/wp-content/uploads/sites/8/2016/09/Commandos.jpg
END:VEVENT
END:VCALENDAR