BEGIN:VCALENDAR
VERSION:2.0
PRODID:-//103.9 MAX FM - ECPv4.6.26//NONSGML v1.0//EN
CALSCALE:GREGORIAN
METHOD:PUBLISH
X-WR-CALNAME:103.9 MAX FM
X-ORIGINAL-URL:https://1039maxfm.com
X-WR-CALDESC:Events for 103.9 MAX FM
BEGIN:VEVENT
DTSTART;TZID=America/Halifax:20180818T080000
DTEND;TZID=America/Halifax:20180818T120000
DTSTAMP:20260424T114111
CREATED:20180727T120551Z
LAST-MODIFIED:20180727T120551Z
UID:6478-1534579200-1534593600@1039maxfm.com
SUMMARY:Convoy For Hope Atlantic
DESCRIPTION:The 9th annual Convoy For Hope Atlantic will be taking place on Saturday\, August 18th at 8am. It will start at the Salisbury Big Stop and finish at the Moncton Coliseum with a BBQ\, silent auction\, live auction & much more\, all in support of Atlantic Canada Breast\, Lung & Prostate Cancer. \nTo register: http://www.convoyforhope-atlantic.ca \nAny commercial driver is invited. \n
URL:https://1039maxfm.com/event/convoy-for-hope-atlantic/
END:VEVENT
END:VCALENDAR