BEGIN:VCALENDAR
VERSION:2.0
PRODID:-//103.9 MAX FM - ECPv4.6.26//NONSGML v1.0//EN
CALSCALE:GREGORIAN
METHOD:PUBLISH
X-WR-CALNAME:103.9 MAX FM
X-ORIGINAL-URL:https://1039maxfm.com
X-WR-CALDESC:Events for 103.9 MAX FM
BEGIN:VEVENT
DTSTART;TZID=UTC+0:20160819T120000
DTEND;TZID=UTC+0:20160819T150000
DTSTAMP:20260420T233120
CREATED:20160816T171645Z
LAST-MODIFIED:20160816T171645Z
UID:253-1471608000-1471618800@1039maxfm.com
SUMMARY:Community Event
DESCRIPTION:Where: Centennial Park \nWhen: 12 – 3PM\, 2016-08-19 \nAbility NB is hosting a Community Event at Centennial Park on August 19th from 12 to 3pm for anyone living with a mobility disability. There will be a picnic\, wheelchair tennis and boccia\, stroll in handcycles\, and other activities. RSVP to Celine at celine.gautreau@abilitynb.ca or call 858-0311. \n
URL:https://1039maxfm.com/event/community-event/
CATEGORIES:Community
END:VEVENT
END:VCALENDAR