BEGIN:VCALENDAR
VERSION:2.0
PRODID:-//103.9 MAX FM - ECPv4.6.26//NONSGML v1.0//EN
CALSCALE:GREGORIAN
METHOD:PUBLISH
X-WR-CALNAME:103.9 MAX FM
X-ORIGINAL-URL:https://1039maxfm.com
X-WR-CALDESC:Events for 103.9 MAX FM
BEGIN:VEVENT
DTSTART;TZID=America/Halifax:20161105T120000
DTEND;TZID=America/Halifax:20161105T140000
DTSTAMP:20260423T102319
CREATED:20161012T150944Z
LAST-MODIFIED:20161012T150944Z
UID:1911-1478347200-1478354400@1039maxfm.com
SUMMARY:Christmas Tea and Bazaar
DESCRIPTION:On Saturday\, November 5th the Anglican Church Hall located on Route 121 in Apohaqui\, N.B. will be having their annual Christmas Tea and Bazaar from 12-2pm. Cost is $8 and there will be a food and craft table. Everyone is welcome! \n
URL:https://1039maxfm.com/event/christmas-tea-and-bazaar/
END:VEVENT
END:VCALENDAR