BEGIN:VCALENDAR
VERSION:2.0
PRODID:-//103.9 MAX FM - ECPv4.6.26//NONSGML v1.0//EN
CALSCALE:GREGORIAN
METHOD:PUBLISH
X-WR-CALNAME:103.9 MAX FM
X-ORIGINAL-URL:https://1039maxfm.com
X-WR-CALDESC:Events for 103.9 MAX FM
BEGIN:VEVENT
DTSTART;TZID=America/Halifax:20251206T080000
DTEND;TZID=America/Halifax:20251207T150000
DTSTAMP:20260424T114708
CREATED:20251117T114732Z
LAST-MODIFIED:20251117T114732Z
UID:20000-1765008000-1765119600@1039maxfm.com
SUMMARY:Christmas in the Country Shopping Event
DESCRIPTION:We are back this year with 30+ local vendors joining us for Christmas in the Country Holiday shopping event!\nSaturday December 6th from 9am – 4pm\, and Sunday December 7th from 10am – 3pm\nGrab a friend and join us as to shop all of what the vendors have to offer. Leave some room for lunch\, as we will be serving a variety of Homemade Soups and Breads.\nFarmer Brown’s Greenhouse is located approx. 12 mins straight out the Pine Glen Road from Riverview. Located at 371 Osborne Corner\, Dawson Settlement. \n
URL:https://1039maxfm.com/event/christmas-in-the-country-shopping-event/
LOCATION:371 Osborne Corner Road\, Hillsborough\, NB
ATTACH;FMTTYPE=image/jpeg:https://1039maxfm.com/wp-content/uploads/sites/8/2025/11/Xmas-Country.jpg
END:VEVENT
END:VCALENDAR