BEGIN:VCALENDAR
VERSION:2.0
PRODID:-//103.9 MAX FM - ECPv4.6.26//NONSGML v1.0//EN
CALSCALE:GREGORIAN
METHOD:PUBLISH
X-WR-CALNAME:103.9 MAX FM
X-ORIGINAL-URL:https://1039maxfm.com
X-WR-CALDESC:Events for 103.9 MAX FM
BEGIN:VEVENT
DTSTART;TZID=America/Halifax:20170925T193000
DTEND;TZID=America/Halifax:20170925T220000
DTSTAMP:20260424T104036
CREATED:20170202T120032Z
LAST-MODIFIED:20170208T175350Z
UID:2795-1506367800-1506376800@1039maxfm.com
SUMMARY:Chris De Burgh
DESCRIPTION:103.9 MAX FM is very proud to welcome Chris De Burgh in ‘A Better World’ Canadian Tour on Monday\, September 25th at the Molson Canadian Centre at Casino NB! \nChris De Burgh returns to Moncton for a night of his greatest hits and live cuts from his brand new album\, “A Better World”. \n*TICKETS GO ON SALE FRIDAY\, FEBRUARY 10th at 12pm – BEAT THE BOX OFFICE ALL THIS WEEK DURING THE MAX MORNING SHOW FOR TICKETS* \nTickets will be able to be purchased at the Casino Gift Shop\, by calling 1-866-943-8849 or online at CasinoNB.ca! \n
URL:https://1039maxfm.com/event/chris-de-burgh/
ATTACH;FMTTYPE=image/png:https://1039maxfm.com/wp-content/uploads/sites/8/2017/02/chrisdeburg_MAX.png
END:VEVENT
END:VCALENDAR