BEGIN:VCALENDAR
VERSION:2.0
PRODID:-//103.9 MAX FM - ECPv4.6.26//NONSGML v1.0//EN
CALSCALE:GREGORIAN
METHOD:PUBLISH
X-WR-CALNAME:103.9 MAX FM
X-ORIGINAL-URL:https://1039maxfm.com
X-WR-CALDESC:Events for 103.9 MAX FM
BEGIN:VEVENT
DTSTART;TZID=America/Halifax:20170723T110000
DTEND;TZID=America/Halifax:20170723T150000
DTSTAMP:20260423T225039
CREATED:20170628T130249Z
LAST-MODIFIED:20170628T130249Z
UID:4329-1500807600-1500822000@1039maxfm.com
SUMMARY:Carma Cat Walk (walk-a-thon)
DESCRIPTION:Carma Cat Rescue will be putting on a Cat Walk (walk-a-thon) on Sunday\, July 23rd( rain date July 30) from 11am-3pm at Centennial Park with the cat walk at 1pm. There will be music by Cat Sass\, BBQ\, face painting and a 50/50. Participants pay a registration fee of $20 or raise money through pledges. For more info\, contact Carma at http://carmamoncton@gmail.com or call 875-4412 \n
URL:https://1039maxfm.com/event/carma-cat-walk-walk-a-thon/
END:VEVENT
END:VCALENDAR