BEGIN:VCALENDAR
VERSION:2.0
PRODID:-//103.9 MAX FM - ECPv4.6.26//NONSGML v1.0//EN
CALSCALE:GREGORIAN
METHOD:PUBLISH
X-WR-CALNAME:103.9 MAX FM
X-ORIGINAL-URL:https://1039maxfm.com
X-WR-CALDESC:Events for 103.9 MAX FM
BEGIN:VEVENT
DTSTART;TZID=America/Halifax:20161012T190000
DTEND;TZID=America/Halifax:20161012T210000
DTSTAMP:20260420T152253
CREATED:20160916T132434Z
LAST-MODIFIED:20160916T132434Z
UID:1167-1476298800-1476306000@1039maxfm.com
SUMMARY:Canadian Liver Foundation Support Group Meeting
DESCRIPTION:On Wednesday\, October 12th The Canadian Liver Foundation will be having a support group meeting at 43 Fergus St.\, Moncton. It starts at 7:00pm and is open to anyone who has liver disease. There will also be a dietician on hand. For more info\, contact Gary Trainor 961-7983 \n
URL:https://1039maxfm.com/event/canadian-liver-foundation-support-group-meeting/
END:VEVENT
END:VCALENDAR