BEGIN:VCALENDAR
VERSION:2.0
PRODID:-//103.9 MAX FM - ECPv4.6.26//NONSGML v1.0//EN
CALSCALE:GREGORIAN
METHOD:PUBLISH
X-WR-CALNAME:103.9 MAX FM
X-ORIGINAL-URL:https://1039maxfm.com
X-WR-CALDESC:Events for 103.9 MAX FM
BEGIN:VEVENT
DTSTART;TZID=America/Halifax:20231021T190000
DTEND;TZID=America/Halifax:20231021T230000
DTSTAMP:20260420T152132
CREATED:20230821T150530Z
LAST-MODIFIED:20230830T104739Z
UID:16215-1697914800-1697929200@1039maxfm.com
SUMMARY:Blue Rodeo - Five Days In July Tour
DESCRIPTION:Recorded in July ’93\, released in October ’93 — Celebrating 30 years of their album Five Days In July! \nCanadian alt-country rockers Blue Rodeo will be making a stop in Moncton Saturday\, October 21 at the Avenir Centre as part of their Five Days In July Tour! \nFrom Jim Cuddy: “We have a rare opportunity to revisit Five Days In July in its entirety. This being the record’s 30th birthday\, we thought we would do a few special shows and play the record front to back. Should be fun.” \nFans can look forward to hearing songs from the six-time platinum classic record\, while also enjoying some more favourites from over the years. \nTickets on sale now! \nDoors open at 7pm. Show starts at 8pm. \nMore Info: Evenko \n
URL:https://1039maxfm.com/event/blue-rodeo-five-days-in-july-tour/
ATTACH;FMTTYPE=image/jpeg:https://1039maxfm.com/wp-content/uploads/sites/8/2023/08/FB_IMG_1692632347251.jpg
END:VEVENT
END:VCALENDAR