BEGIN:VCALENDAR
VERSION:2.0
PRODID:-//103.9 MAX FM - ECPv4.6.26//NONSGML v1.0//EN
CALSCALE:GREGORIAN
METHOD:PUBLISH
X-WR-CALNAME:103.9 MAX FM
X-ORIGINAL-URL:https://1039maxfm.com
X-WR-CALDESC:Events for 103.9 MAX FM
BEGIN:VEVENT
DTSTART;TZID=America/Halifax:20250827T080000
DTEND;TZID=America/Halifax:20250827T190000
DTSTAMP:20260419T132003
CREATED:20250821T113644Z
LAST-MODIFIED:20250822T112301Z
UID:19624-1756281600-1756321200@1039maxfm.com
SUMMARY:BGC Riverview Stuff a Bus
DESCRIPTION:\n\n\n\n\n Stuff Our Busses with Refundables! \nSupport BGC Riverview by donating your bottles and cans!\n\n\nOur Refundable Program is one of the largest fundraisers we have\, helping to fuel the programs that support hundreds of local kids. Unfortunately\, we’ve experienced a rise in theft at our drop-off locations — and we need your help now more than ever.\n\n\n Let’s fill our BGC busses with refundables!\nEvery can and bottle helps us provide meals\, mentorship\, creativity\, and fun for youth in our community.\n\n\nRunneymeade Road & Hillsborough Rd\nAug 27th 7am -9am & 4pm – 7pm\nWe will also off porch pick up that week if it’s more convenient. Just fill out this form – https://forms.gle/b7i5it9ad7S5bm9k9\n 100% of proceeds go directly back into programming at BGC Riverview.\n\n\n\n\n\n
URL:https://1039maxfm.com/event/bgc-riverview-stuff-a-bus/
CATEGORIES:Community,Community Events,For Kids
ATTACH;FMTTYPE=image/png:https://1039maxfm.com/wp-content/uploads/sites/8/2025/08/BGC-RIver-View.png
END:VEVENT
END:VCALENDAR