BEGIN:VCALENDAR
VERSION:2.0
PRODID:-//103.9 MAX FM - ECPv4.6.26//NONSGML v1.0//EN
CALSCALE:GREGORIAN
METHOD:PUBLISH
X-WR-CALNAME:103.9 MAX FM
X-ORIGINAL-URL:https://1039maxfm.com
X-WR-CALDESC:Events for 103.9 MAX FM
BEGIN:VEVENT
DTSTART;TZID=America/Halifax:20161105T110000
DTEND;TZID=America/Halifax:20161105T140000
DTSTAMP:20260425T115400
CREATED:20161026T142711Z
LAST-MODIFIED:20161026T142711Z
UID:2234-1478343600-1478354400@1039maxfm.com
SUMMARY:Bazaar and Luncheon
DESCRIPTION:The St. John’s UCW will be having a bazaar and luncheon on Saturday\, November 5th from 11am-2pm at 75 Alma St. \nThe cost is $8 and includes soup\, roll\, beverage and pie. There will be crafts\, baked goods\, jewelry\, books and treasures! Everyone is welcome! \n
URL:https://1039maxfm.com/event/bazaar-and-luncheon/
END:VEVENT
END:VCALENDAR