BEGIN:VCALENDAR
VERSION:2.0
PRODID:-//103.9 MAX FM - ECPv4.6.26//NONSGML v1.0//EN
CALSCALE:GREGORIAN
METHOD:PUBLISH
X-WR-CALNAME:103.9 MAX FM
X-ORIGINAL-URL:https://1039maxfm.com
X-WR-CALDESC:Events for 103.9 MAX FM
BEGIN:VEVENT
DTSTART;TZID=America/Halifax:20260606T100000
DTEND;TZID=America/Halifax:20260606T130000
DTSTAMP:20260419T131308
CREATED:20260407T131030Z
LAST-MODIFIED:20260407T131030Z
UID:20726-1780740000-1780750800@1039maxfm.com
SUMMARY:Atlantic Canada's Biggest Corvette Show
DESCRIPTION:\n\n\n\n\nEvent by Lounsbury Chevrolet Moncton\n\n\n\n\n\n\n\n\n\n\n\n\n2155 West Main Street\, Moncton\, NB\, Canada\, New Brunswick E1C9P2\n\n\n\n\n\n\n\n\n\n\n\n\n\n\n\n\nJune 6.\nFor one day… this isn’t a dealership.\nIt’s Corvette country.\nLounsbury Chevrolet Moncton — the home of the Greater Moncton Corvette Club — is hosting Atlantic Canada’s biggest Corvette show\, and it’s bringing everything with it.\nRows of cars that span generations.Stories behind every build.Engines that don’t ask for attention… they take it.\nFrom timeless classics to brand-new performance monsters — this is where they all meet.\nAnd around it?\nLive music rolling through the lot.Food trucks keeping the crowd moving.Giveaways you’ll actually want to win.A full day of people who just get it.\nYou don’t need to own one.You just need to show up.\nBut if you do have a Corvette… this is your stage.\n Register your Corvette here: https://linktr.ee/lounsburychevrolet reception@lounsburys.com 506-857-4300\nBecause events like this don’t come around often…and when they do\, they don’t stay quiet for long.\n Lounsbury Chevrolet Moncton June 6 Free to attend\nPull up. Bring someone. Stay awhile.\n\n\n\n
URL:https://1039maxfm.com/event/atlantic-canadas-biggest-corvette-show/
ATTACH;FMTTYPE=image/jpeg:https://1039maxfm.com/wp-content/uploads/sites/8/2026/04/660928188_1403097181831165_6438492983516767080_n.jpg
END:VEVENT
END:VCALENDAR