BEGIN:VCALENDAR
VERSION:2.0
PRODID:-//103.9 MAX FM - ECPv4.6.26//NONSGML v1.0//EN
CALSCALE:GREGORIAN
METHOD:PUBLISH
X-WR-CALNAME:103.9 MAX FM
X-ORIGINAL-URL:https://1039maxfm.com
X-WR-CALDESC:Events for 103.9 MAX FM
BEGIN:VEVENT
DTSTART;TZID=America/Halifax:20180930T153000
DTEND;TZID=America/Halifax:20180930T183000
DTSTAMP:20260420T113026
CREATED:20180906T135312Z
LAST-MODIFIED:20180906T135312Z
UID:6812-1538321400-1538332200@1039maxfm.com
SUMMARY:Annual Roast Turkey Supper
DESCRIPTION:The Annual Roast Turkey Supper will be held on Sunday\, September 30th from 3:30-6:30pm at the Apohaqui Recreation Centre\, Jones Memorial Road. There will be turkey\, pickles\, rolls and pumpkin or apple pie for dessert. Cost is $13 for Adults\, $6 for Children 6-12 and FREE for Pre-Schoolers. All take-out orders are $13. There will also be a food & craft table. Everyone welcome! \n
URL:https://1039maxfm.com/event/annual-roast-turkey-supper-2/
END:VEVENT
END:VCALENDAR