BEGIN:VCALENDAR
VERSION:2.0
PRODID:-//103.9 MAX FM - ECPv4.6.26//NONSGML v1.0//EN
CALSCALE:GREGORIAN
METHOD:PUBLISH
X-WR-CALNAME:103.9 MAX FM
X-ORIGINAL-URL:https://1039maxfm.com
X-WR-CALDESC:Events for 103.9 MAX FM
BEGIN:VEVENT
DTSTART;TZID=America/Halifax:20180915T070000
DTEND;TZID=America/Halifax:20180915T100000
DTSTAMP:20260423T170511
CREATED:20180904T131659Z
LAST-MODIFIED:20180904T131659Z
UID:6790-1536994800-1537005600@1039maxfm.com
SUMMARY:All-You-Can-Eat Pancake Breakfast
DESCRIPTION:The Salisbury Lions Club will be having an all-you-can-eat pancake breakfast on Saturday\, September 15th from 7-10am at the Salisbury Lions Club\, 63 Peter St. in Salisbury. The menu will consist of pancakes\, sausages\, pure maple syrup\, donuts\, muffins\, coffee\, tea and juice. Cost is $8 for Adults\, $3 for Children ages 6-10 and FREE for Pre-School. All proceeds are for community work. \n
URL:https://1039maxfm.com/event/all-you-can-eat-pancake-breakfast-16/
END:VEVENT
END:VCALENDAR