BEGIN:VCALENDAR
VERSION:2.0
PRODID:-//103.9 MAX FM - ECPv4.6.26//NONSGML v1.0//EN
CALSCALE:GREGORIAN
METHOD:PUBLISH
X-WR-CALNAME:103.9 MAX FM
X-ORIGINAL-URL:https://1039maxfm.com
X-WR-CALDESC:Events for 103.9 MAX FM
BEGIN:VEVENT
DTSTART;TZID=America/Halifax:20180731T190000
DTEND;TZID=America/Halifax:20180731T200000
DTSTAMP:20260423T093323
CREATED:20180704T140008Z
LAST-MODIFIED:20180704T140008Z
UID:6366-1533063600-1533067200@1039maxfm.com
SUMMARY:Acoustica- Moncton's Free Summer Concert Series
DESCRIPTION:The City of Moncton’s Acoustica summer concert series returns this year with an exciting free lineup of outdoor shows! \nTuesdays at Victoria Park (7pm): \nJuly 31st–Shaun LB \nPresented by Downtown Moncton Centre-Ville Inc. \nFor more info visit moncton.ca \n \n
URL:https://1039maxfm.com/event/acoustica-monctons-free-summer-concert-series-5/
END:VEVENT
END:VCALENDAR