BEGIN:VCALENDAR
VERSION:2.0
PRODID:-//103.9 MAX FM - ECPv4.6.26//NONSGML v1.0//EN
CALSCALE:GREGORIAN
METHOD:PUBLISH
X-WR-CALNAME:103.9 MAX FM
X-ORIGINAL-URL:https://1039maxfm.com
X-WR-CALDESC:Events for 103.9 MAX FM
BEGIN:VEVENT
DTSTART;TZID=America/Halifax:20180818T110000
DTEND;TZID=America/Halifax:20180818T120000
DTSTAMP:20260423T121048
CREATED:20180704T153812Z
LAST-MODIFIED:20180704T153812Z
UID:6413-1534590000-1534593600@1039maxfm.com
SUMMARY:Acoustica- Moncton's Free Summer Concert Series
DESCRIPTION:The City of Moncton’s Acoustica summer concert series returns this year with an exciting free lineup of outdoor shows! \nSaturdays at the Moncton Market (11am) \nAugust 18th– Acadie Rock- Jacques Surette \nPresented by Downtown Moncton Centre-Ville Inc. \nFor more info visit moncton.ca \n \n
URL:https://1039maxfm.com/event/acoustica-monctons-free-summer-concert-series-15/
END:VEVENT
END:VCALENDAR