BEGIN:VCALENDAR
VERSION:2.0
PRODID:-//103.9 MAX FM - ECPv4.6.26//NONSGML v1.0//EN
CALSCALE:GREGORIAN
METHOD:PUBLISH
X-WR-CALNAME:103.9 MAX FM
X-ORIGINAL-URL:https://1039maxfm.com
X-WR-CALDESC:Events for 103.9 MAX FM
BEGIN:VEVENT
DTSTART;TZID=America/Halifax:20161106T193000
DTEND;TZID=America/Halifax:20161106T213000
DTSTAMP:20260421T054841
CREATED:20161012T150902Z
LAST-MODIFIED:20161012T153754Z
UID:1909-1478460600-1478467800@1039maxfm.com
SUMMARY:John McDermott
DESCRIPTION:103.9 MAX FM is very proud to present John McDermott live in concert on November 6th at the Capitol Theatre! \nJohn McDermott is an international recording star and household name. Besides his stellar musical career – platinum\, double-platinum\, triple-platinum albums and multiple Juno nominations – he is also known for his commitment to veterans’ causes – the U.S. Congressional Medal of Honour Society’s Bob Hope Award\, the Ted Williams Globe & Anchor Award from the USMC and\, here at home\, a commendation from the Minister of Veteran’s Affairs for this ongoing work\, which includes his foundation McDermott House Canada\, dedicated to improving care in the final stages of terminal illness and providing a warm\, welcoming place to stay for Canada’s veterans\, military\, first responders and their families. \nIn concert\, whether he is sharing the stage with a topnotch group of musical friends or touring the world as part of the famed Three Irish Tenors\, McDermott continues to enchant audiences with his beautiful voice and sensitive renditions. Though time and travel have introduced him to a wealth of new material and experiences\, he manages to incorporate that diversity into his performances\, while retaining the beguiling sense of humour that endeared him to audiences from the beginning. This tour features songs from his latest release\, Raised on Songs and Stories\, and a variety of favourites from his vast recording catalogue. \nA delectable evening of story and song\, delivered with charm and grace by the consummate craftsman himself\, John McDermott. \n
URL:https://1039maxfm.com/event/1909/
ATTACH;FMTTYPE=image/png:https://1039maxfm.com/wp-content/uploads/sites/8/2016/10/JohnMcDermott.png
END:VEVENT
END:VCALENDAR