BEGIN:VCALENDAR
VERSION:2.0
PRODID:-//103.9 MAX FM - ECPv4.6.26//NONSGML v1.0//EN
CALSCALE:GREGORIAN
METHOD:PUBLISH
X-WR-CALNAME:103.9 MAX FM
X-ORIGINAL-URL:https://1039maxfm.com
X-WR-CALDESC:Events for 103.9 MAX FM
BEGIN:VEVENT
DTSTART;TZID=America/Halifax:20170819T080000
DTEND;TZID=America/Halifax:20170819T170000
DTSTAMP:20260423T114644
CREATED:20170714T140216Z
LAST-MODIFIED:20170714T140216Z
UID:4493-1503129600-1503162000@1039maxfm.com
SUMMARY:18th Annual United Way Beach Volleyball Tournament
DESCRIPTION:The 18th Annual United Way Beach Volleyball Tournament will be happening on Saturday\, August 19th at Parlee Beach in Shediac. Teams pay a registration fee of $100 to $125 to battle it out for prizes and bragging rights with all proceeds going to the United Way. Please contact Larry Lane at http://llane@asurion.com to register or call 386-9217. Registration deadline is August 10th. \n
URL:https://1039maxfm.com/event/18th-annual-united-way-beach-volleyball-tournament/
END:VEVENT
END:VCALENDAR