BEGIN:VCALENDAR
VERSION:2.0
PRODID:-//103.9 MAX FM - ECPv4.6.26//NONSGML v1.0//EN
CALSCALE:GREGORIAN
METHOD:PUBLISH
X-WR-CALNAME:103.9 MAX FM
X-ORIGINAL-URL:https://1039maxfm.com
X-WR-CALDESC:Events for 103.9 MAX FM
BEGIN:VEVENT
DTSTART;TZID=America/Halifax:20201004T123000
DTEND;TZID=America/Halifax:20201004T170000
DTSTAMP:20260424T111512
CREATED:20200923T173108Z
LAST-MODIFIED:20200923T184318Z
UID:12076-1601814600-1601830800@1039maxfm.com
SUMMARY:CIBC Run for the Cure
DESCRIPTION:This year\, since we can’t meet in person\, we have reimagined the Canadian Cancer Society CIBC Run for the Cure into a one-of-a-kind experience with both physical and virtual components. Through our refreshed\, easy-to-use mobile app and website\, Greater Moncton residents can create and customize their own virtual runner\, fundraise to unlock rewards and track their activity. \nOn Run Day\, Greater Moncton residents will join our live-streamed online opening ceremonies at 12:30 a.m. AST before heading out to walk or run in their neighbourhood. \nBeing physically apart won’t stop us from coming together to change the future of breast cancer. Join us and run or walk your way on October 4th. Register today at cibcrunforthecure.com. \n
URL:https://1039maxfm.com/event/15423/
ATTACH;FMTTYPE=image/jpeg:https://1039maxfm.com/wp-content/uploads/sites/8/2020/09/CIBC-RFTC-MAX.jpg
END:VEVENT
END:VCALENDAR